BEGIN:VCALENDAR
VERSION:2.0
PRODID:-//Parc &amp; Château de Beauregard - ECPv6.15.20//NONSGML v1.0//EN
CALSCALE:GREGORIAN
METHOD:PUBLISH
X-WR-CALNAME:Parc &amp; Château de Beauregard
X-ORIGINAL-URL:https://beauregard-loire.com/en/
X-WR-CALDESC:Events for Parc &amp; Château de Beauregard
REFRESH-INTERVAL;VALUE=DURATION:PT1H
X-Robots-Tag:noindex
X-PUBLISHED-TTL:PT1H
BEGIN:VTIMEZONE
TZID:UTC
BEGIN:STANDARD
TZOFFSETFROM:+0000
TZOFFSETTO:+0000
TZNAME:UTC
DTSTART:20200101T000000
END:STANDARD
END:VTIMEZONE
BEGIN:VEVENT
DTSTART;VALUE=DATE:20211023
DTEND;VALUE=DATE:20211024
DTSTAMP:20260423T120137
CREATED:20220322T180651Z
LAST-MODIFIED:20220322T180651Z
UID:9694-1634947200-1635033599@beauregard-loire.com
SUMMARY:The Night of the castles 2021
DESCRIPTION:With friends or family\, the third edition of The Night of the Castles allowed many visitors to come and discover the treasures of the Château de Beauregard for an evening. \nA friendly and warm atmosphere for an evening rich in culture and history. Galerie des Illustres\, old kitchen and its old brass\, fireplace\, everything was present to guarantee comfort and wonder to our visitors.
URL:https://beauregard-loire.com/en/evenement/the-night-of-the-castles-2021/
LOCATION:Château de Beauregard\, 12 Chemin de la Fontaine\, Cellettes\, France\, 41120\, France
ATTACH;FMTTYPE=image/png:https://beauregard-loire.com/wp-content/uploads/2022/03/la-nuit-au-chateau.png
END:VEVENT
BEGIN:VEVENT
DTSTART;VALUE=DATE:20210918
DTEND;VALUE=DATE:20210920
DTSTAMP:20260423T120137
CREATED:20220321T165817Z
LAST-MODIFIED:20220321T165817Z
UID:9693-1631923200-1632095999@beauregard-loire.com
SUMMARY:Heritage Days 2021
DESCRIPTION:
URL:https://beauregard-loire.com/en/evenement/heritage-days-2021/
LOCATION:Château de Beauregard\, 12 Chemin de la Fontaine\, Cellettes\, France\, 41120\, France
CATEGORIES:Event
ATTACH;FMTTYPE=image/jpeg:https://beauregard-loire.com/wp-content/uploads/2022/03/journees-europeennes-du-patrimoine-2021.jpg
END:VEVENT
END:VCALENDAR